BEGIN:VCALENDAR
VERSION:2.0
PRODID:-//EZlegal - ECPv6.15.17//NONSGML v1.0//EN
CALSCALE:GREGORIAN
METHOD:PUBLISH
X-WR-CALNAME:EZlegal
X-ORIGINAL-URL:https://ezlegal.se
X-WR-CALDESC:Händelser för EZlegal
REFRESH-INTERVAL;VALUE=DURATION:PT1H
X-Robots-Tag:noindex
X-PUBLISHED-TTL:PT1H
BEGIN:VTIMEZONE
TZID:Europe/Amsterdam
BEGIN:DAYLIGHT
TZOFFSETFROM:+0100
TZOFFSETTO:+0200
TZNAME:CEST
DTSTART:20250330T010000
END:DAYLIGHT
BEGIN:STANDARD
TZOFFSETFROM:+0200
TZOFFSETTO:+0100
TZNAME:CET
DTSTART:20251026T010000
END:STANDARD
BEGIN:DAYLIGHT
TZOFFSETFROM:+0100
TZOFFSETTO:+0200
TZNAME:CEST
DTSTART:20260329T010000
END:DAYLIGHT
BEGIN:STANDARD
TZOFFSETFROM:+0200
TZOFFSETTO:+0100
TZNAME:CET
DTSTART:20261025T010000
END:STANDARD
BEGIN:DAYLIGHT
TZOFFSETFROM:+0100
TZOFFSETTO:+0200
TZNAME:CEST
DTSTART:20270328T010000
END:DAYLIGHT
BEGIN:STANDARD
TZOFFSETFROM:+0200
TZOFFSETTO:+0100
TZNAME:CET
DTSTART:20271031T010000
END:STANDARD
END:VTIMEZONE
BEGIN:VEVENT
DTSTART;TZID=Europe/Amsterdam:20260422T120000
DTEND;TZID=Europe/Amsterdam:20260422T130000
DTSTAMP:20260420T033033
CREATED:20260408T112938Z
LAST-MODIFIED:20260408T112938Z
UID:156310-1776859200-1776862800@ezlegal.se
SUMMARY:Vårdnadstvister i praktiken
DESCRIPTION:
URL:https://ezlegal.se/event/vardnadstvister-i-praktiken-2/
END:VEVENT
BEGIN:VEVENT
DTSTART;TZID=Europe/Amsterdam:20260429T120000
DTEND;TZID=Europe/Amsterdam:20260429T130000
DTSTAMP:20260420T033033
CREATED:20260408T112806Z
LAST-MODIFIED:20260408T112806Z
UID:156307-1777464000-1777467600@ezlegal.se
SUMMARY:Entreprenadrätt: Varför tvistas det så mycket i byggprojekt?
DESCRIPTION:
URL:https://ezlegal.se/event/entreprenadratt-varfor-tvistas-det-sa-mycket-i-byggprojekt/
END:VEVENT
END:VCALENDAR